BEGIN:VCALENDAR
VERSION:2.0
PRODID:-//Welcome to Dunscore - ECPv6.15.20//NONSGML v1.0//EN
CALSCALE:GREGORIAN
METHOD:PUBLISH
X-ORIGINAL-URL:https://www.dunscore.org.uk
X-WR-CALDESC:Events for Welcome to Dunscore
REFRESH-INTERVAL;VALUE=DURATION:PT1H
X-Robots-Tag:noindex
X-PUBLISHED-TTL:PT1H
BEGIN:VTIMEZONE
TZID:Europe/London
BEGIN:DAYLIGHT
TZOFFSETFROM:+0000
TZOFFSETTO:+0100
TZNAME:BST
DTSTART:20250330T010000
END:DAYLIGHT
BEGIN:STANDARD
TZOFFSETFROM:+0100
TZOFFSETTO:+0000
TZNAME:GMT
DTSTART:20251026T010000
END:STANDARD
BEGIN:DAYLIGHT
TZOFFSETFROM:+0000
TZOFFSETTO:+0100
TZNAME:BST
DTSTART:20260329T010000
END:DAYLIGHT
BEGIN:STANDARD
TZOFFSETFROM:+0100
TZOFFSETTO:+0000
TZNAME:GMT
DTSTART:20261025T010000
END:STANDARD
BEGIN:DAYLIGHT
TZOFFSETFROM:+0000
TZOFFSETTO:+0100
TZNAME:BST
DTSTART:20270328T010000
END:DAYLIGHT
BEGIN:STANDARD
TZOFFSETFROM:+0100
TZOFFSETTO:+0000
TZNAME:GMT
DTSTART:20271031T010000
END:STANDARD
END:VTIMEZONE
BEGIN:VEVENT
DTSTART;TZID=Europe/London:20261101T183000
DTEND;TZID=Europe/London:20261101T203000
DTSTAMP:20260422T111303
CREATED:20260204T173118Z
LAST-MODIFIED:20260224T210733Z
UID:1074-1793557800-1793565000@www.dunscore.org.uk
SUMMARY:Dunscore Community Council presents the Annual Bonfire Celebrations
DESCRIPTION:a date for your diary – 8th November  2026 \n  \nmore details to come
URL:https://www.dunscore.org.uk/event/dunscore-community-council-presents-the-annual-bonfire-celebrations/
END:VEVENT
BEGIN:VEVENT
DTSTART;TZID=Europe/London:20261108T123000
DTEND;TZID=Europe/London:20261108T133000
DTSTAMP:20260422T111303
CREATED:20211101T195337Z
LAST-MODIFIED:20260102T201526Z
UID:612-1794141000-1794144600@www.dunscore.org.uk
SUMMARY:Remembrance Sunday
DESCRIPTION:
URL:https://www.dunscore.org.uk/event/remembrance-sunday/
LOCATION:Dunscore War Memorial
END:VEVENT
END:VCALENDAR