BEGIN:VCALENDAR
VERSION:2.0
PRODID:-//Welcome to Dunscore - ECPv6.15.20//NONSGML v1.0//EN
CALSCALE:GREGORIAN
METHOD:PUBLISH
X-ORIGINAL-URL:https://www.dunscore.org.uk
X-WR-CALDESC:Events for Welcome to Dunscore
REFRESH-INTERVAL;VALUE=DURATION:PT1H
X-Robots-Tag:noindex
X-PUBLISHED-TTL:PT1H
BEGIN:VTIMEZONE
TZID:Europe/London
BEGIN:DAYLIGHT
TZOFFSETFROM:+0000
TZOFFSETTO:+0100
TZNAME:BST
DTSTART:20250330T010000
END:DAYLIGHT
BEGIN:STANDARD
TZOFFSETFROM:+0100
TZOFFSETTO:+0000
TZNAME:GMT
DTSTART:20251026T010000
END:STANDARD
BEGIN:DAYLIGHT
TZOFFSETFROM:+0000
TZOFFSETTO:+0100
TZNAME:BST
DTSTART:20260329T010000
END:DAYLIGHT
BEGIN:STANDARD
TZOFFSETFROM:+0100
TZOFFSETTO:+0000
TZNAME:GMT
DTSTART:20261025T010000
END:STANDARD
BEGIN:DAYLIGHT
TZOFFSETFROM:+0000
TZOFFSETTO:+0100
TZNAME:BST
DTSTART:20270328T010000
END:DAYLIGHT
BEGIN:STANDARD
TZOFFSETFROM:+0100
TZOFFSETTO:+0000
TZNAME:GMT
DTSTART:20271031T010000
END:STANDARD
END:VTIMEZONE
BEGIN:VEVENT
DTSTART;VALUE=DATE:20260802
DTEND;VALUE=DATE:20260809
DTSTAMP:20260420T105528
CREATED:20220412T160801Z
LAST-MODIFIED:20251031T153258Z
UID:770-1785628800-1786233599@www.dunscore.org.uk
SUMMARY:Dunscore Gala
DESCRIPTION:Sunday 2nd -Saturday 8th August 2026\n\n\n\nWe will post details of everything that is happening during the week soon.
URL:https://www.dunscore.org.uk/event/dunscore-gala/
LOCATION:Dunscore
ORGANIZER;CN="Dunscore Gala":MAILTO:dunscoregala@gmail.com
END:VEVENT
END:VCALENDAR