BEGIN:VCALENDAR
VERSION:2.0
PRODID:-//Welcome to Dunscore - ECPv6.15.20//NONSGML v1.0//EN
CALSCALE:GREGORIAN
METHOD:PUBLISH
X-WR-CALNAME:Welcome to Dunscore
X-ORIGINAL-URL:https://www.dunscore.org.uk
X-WR-CALDESC:Events for Welcome to Dunscore
REFRESH-INTERVAL;VALUE=DURATION:PT1H
X-Robots-Tag:noindex
X-PUBLISHED-TTL:PT1H
BEGIN:VTIMEZONE
TZID:Europe/London
BEGIN:DAYLIGHT
TZOFFSETFROM:+0000
TZOFFSETTO:+0100
TZNAME:BST
DTSTART:20210328T010000
END:DAYLIGHT
BEGIN:STANDARD
TZOFFSETFROM:+0100
TZOFFSETTO:+0000
TZNAME:GMT
DTSTART:20211031T010000
END:STANDARD
BEGIN:DAYLIGHT
TZOFFSETFROM:+0000
TZOFFSETTO:+0100
TZNAME:BST
DTSTART:20220327T010000
END:DAYLIGHT
BEGIN:STANDARD
TZOFFSETFROM:+0100
TZOFFSETTO:+0000
TZNAME:GMT
DTSTART:20221030T010000
END:STANDARD
BEGIN:DAYLIGHT
TZOFFSETFROM:+0000
TZOFFSETTO:+0100
TZNAME:BST
DTSTART:20230326T010000
END:DAYLIGHT
BEGIN:STANDARD
TZOFFSETFROM:+0100
TZOFFSETTO:+0000
TZNAME:GMT
DTSTART:20231029T010000
END:STANDARD
END:VTIMEZONE
BEGIN:VEVENT
DTSTART;TZID=Europe/London:20220513T190000
DTEND;TZID=Europe/London:20220513T235900
DTSTAMP:20260420T105901
CREATED:20220414T100736Z
LAST-MODIFIED:20220414T101309Z
UID:820-1652468400-1652486340@www.dunscore.org.uk
SUMMARY:Live Music at The Flying Pig
DESCRIPTION:The Flying Pig Presents \n‘Old Friends’ \nMore details to follow shortly
URL:https://www.dunscore.org.uk/event/live-music-at-the-flying-pig/
LOCATION:The Flying Pig\, Main Street\, Dunscore\, DG2 0TB\, United Kingdom
ORGANIZER;CN="The Flying Pig":MAILTO:flyingpigpubdunscore@gmail.com
END:VEVENT
BEGIN:VEVENT
DTSTART;TZID=Europe/London:20220430T170000
DTEND;TZID=Europe/London:20220430T183000
DTSTAMP:20260420T105901
CREATED:20220412T135019Z
LAST-MODIFIED:20220412T140224Z
UID:734-1651338000-1651343400@www.dunscore.org.uk
SUMMARY:Fish & Chips Night
DESCRIPTION:Dumfries Mobile Fish & Chips frying tonight at The Flying Pig Car Park\nGet your preorder in now by calling or texting Nicola on 07376 431441 or you can message the Facebook page \n🐟🎣🍟🍟 \n \n 
URL:https://www.dunscore.org.uk/event/fish-chips-night/
LOCATION:The Flying Pig\, Main Street\, Dunscore\, DG2 0TB\, United Kingdom
END:VEVENT
END:VCALENDAR